BEGIN:VCALENDAR
VERSION:2.0
PRODID:-//DATer Events - ECPv4.6.19//NONSGML v1.0//EN
CALSCALE:GREGORIAN
METHOD:PUBLISH
X-WR-CALNAME:DATer Events
X-ORIGINAL-URL:http://eventv2.dater.lu
X-WR-CALDESC:Events for DATer Events
BEGIN:VEVENT
DTSTART;TZID=Europe/Luxembourg:20170523T100000
DTEND;TZID=Europe/Luxembourg:20170523T143000
DTSTAMP:20180701T220904
CREATED:20170418T050806Z
LAST-MODIFIED:20180629T124553Z
UID:251-1495533600-1495549800@eventv2.dater.lu
SUMMARY:Lancement du nouveau géoportail de la Grande Région  Start des neuen Geoportals der Großregion
DESCRIPTION:\n \n\nProgramme | Programm\n\n\n\nObservation territoriale transfrontalière : \nLancement du nouveau géoportail de la Grande Région\n09h30 – 10h00 : Accueil et buffet petit-déjeuner \n10h00 – 10h15 : Mot de bienvenue du Monsieur le Secrétaire d’Etat Camille Gira \n 10h15 – 10h35 : Présentation de l’observation territoriale dans la Grande Région : Système d’Information Géographique de la Grande Région (Thierry Hengen\, chargé de mission SIG-GR) \n10h35 – 11h20 : Exemples de bonnes pratiques d’utilisation du SIG-GR \n\nObservatoire interrégional du marché de l’emploi (OIE) de la GR : rapports pour le Sommet et le CESGR (Dr. Jeanne Ruffing\, coordinatrice de l’OIE)\nGroupe de travail « Transports » du Sommet de la GR : cartes réalisées en coopération avec le SIG-GR (Monsieur Antoine Montenon\, DREAL Grand Est\, coordinateur du GT)\nProjet MORO « Observation territoriale en Allemagne et régions limitrophes » (Monsieur Thomas Geib\, Ministère de l’Intérieur et du Sport Rhénanie-Palatinat\, chef de projet)\n\n11h20 – 11h50 : Lancement du nouveau géoportail de la Grande Région (Monsieur le Secrétaire d’Etat Camille Gira) \n11h50 – 13h15 : Table ronde avec des représentants de l’observation territoriale : Quelle orientation pour l’observation territoriale transfrontalière dans la Grande Région ? \n\nMonsieur le Secrétaire d’Etat Camille Gira (Ministère du Développement durable et des Infrastructures\, Grand-Duché de Luxembourg)\nProf. Dr. Heinz Bierbaum (Directeur Info-Institut)\nMonsieur Jörg Berres / Dr. Ludwig Böckmann (Institut de statistique de la Rhénanie-Palatinat)\nMonsieur Jean Rubio (Mission Opérationnelle Transfrontalière)\nMonsieur Volker Schmidt-Seiwert (Bundesinstitut für Bau-\, Stadt- und Raumforschung)\n\nModération : Madame Florence Jacquey (Gérante du Secrétariat du Sommet de la Grande Région) \n13h15 – 13h30 : Questions \n13h30 – 14h30 : Déjeuner buffet (Table du Belvédère) \n \nGrenzüberschreitende Raumbeobachtung: \nStart des neuen Geoportals der Großregion\n09.30 – 10.00  Uhr : Empfang und Fühstücksbuffet\n10.00 – 10.15 Uhr : Begrüßung durch den Staatssekretär\, Herrn Camille Gira\n10.15 – 10.35 Uhr : Vorstellung der Raumbeobachtung in der Großregion : Geografisches Informationssystem der Großregion (Thierry Hengen\, Beauftragter GIS-GR) \n10.35 – 11.20 Uhr : Best-Practice Beispiele für die Nutzung des GIS-GR \n\nInterregionale Arbeitsmarktbeobachtungsstelle (IBA) der GR : Berichte für den Gipfel und den WSAGR (Dr. Jeanne Ruffing\, Koordinatorin der IBA)\nArbeitsgruppe „Verkehr“ des Gipfels der GR: Karten\, die in Zusammenarbeit mit dem GIS-GR erstellt wurden (Herr Antoine Montenon\, DREAL Grand Est\, Koordinator der AG)\nMORO-Projekt « Raumbeobachtung Deutschland und Grenzregionen » (Herr Thomas Geib\, Ministerium des Innern und für Sport Rheinland-Pfalz\, Projektleiter)\n\n11.20 – 11.50 Uhr : Start des neuen Geoportals der Großregion (Herr Staatssekretär Camille Gira) \n11.50 – 13.15 Uhr : Rundtisch mit Vertretern der Raumbeobachtung : Welche Ausrichtung für die grenzüberschreitende Raumbeobachtung in der Großregion? \n\nHerr Staatssektretär Camille Gira (Ministerium für nachhaltige Entwicklung und Infrastruktur\, Großherzogtum Luxembourg)\nProf. Dr. Heinz Bierbaum (Geschäftsführer Info-Institut)\nHerr Jörg Berres / Dr. Ludwig Böckmann (Statistisches Landesamt Rheinland-Pfalz)\nHerr Jean Rubio (Mission Opérationnelle Transfrontalière)\nHerr Volker Schmidt-Seiwert (Bundesinstitut für Bau-\, Stadt- und Raumforschung)\n\nModeration: Frau Florence Jacquey (Geschäftsführerin des Gipfelsekretariats der Großregion) \n13.15 – 13.30 Uhr : Fragen \n13.30 – 14.30 Uhr : Mittagsbuffet (Table du Belvédère)\n\n\n\nProgramme | Programm \n\n\n	Ähnliche Beiträge\n
URL:http://eventv2.dater.lu/event/observation-territoriale-transfrontaliere-lancement-du-nouveau-geoportail-de-la-grande-region-grenzueberschreitende-raumbeobachtung-start-des-neuen-geoportals-der-grossregion/
LOCATION:4\, place de l'Europe\, Luxembourg\, 1499\, Luxembourg
ATTACH;FMTTYPE=image/png:http://eventv2.dater.lu/wp-content/uploads/2017/04/icon-1.png
ORGANIZER;CN="Syst%C3%A8me%20d%E2%80%99Information%20G%C3%A9ographique%20de%20la%20Grande%20R%C3%A9gion%20%28SIG-GR%29":MAILTO:thierry.hengen@mat.etat.lu
END:VEVENT
END:VCALENDAR